BEGIN:VCALENDAR
VERSION:2.0
PRODID:-//Beer Street Journal - ECPv6.15.20//NONSGML v1.0//EN
CALSCALE:GREGORIAN
METHOD:PUBLISH
X-WR-CALNAME:Beer Street Journal
X-ORIGINAL-URL:https://beerstreetjournal.com
X-WR-CALDESC:Events for Beer Street Journal
REFRESH-INTERVAL;VALUE=DURATION:PT1H
X-Robots-Tag:noindex
X-PUBLISHED-TTL:PT1H
BEGIN:VTIMEZONE
TZID:America/New_York
BEGIN:DAYLIGHT
TZOFFSETFROM:-0500
TZOFFSETTO:-0400
TZNAME:EDT
DTSTART:20220313T070000
END:DAYLIGHT
BEGIN:STANDARD
TZOFFSETFROM:-0400
TZOFFSETTO:-0500
TZNAME:EST
DTSTART:20221106T060000
END:STANDARD
BEGIN:DAYLIGHT
TZOFFSETFROM:-0500
TZOFFSETTO:-0400
TZNAME:EDT
DTSTART:20230312T070000
END:DAYLIGHT
BEGIN:STANDARD
TZOFFSETFROM:-0400
TZOFFSETTO:-0500
TZNAME:EST
DTSTART:20231105T060000
END:STANDARD
BEGIN:DAYLIGHT
TZOFFSETFROM:-0500
TZOFFSETTO:-0400
TZNAME:EDT
DTSTART:20240310T070000
END:DAYLIGHT
BEGIN:STANDARD
TZOFFSETFROM:-0400
TZOFFSETTO:-0500
TZNAME:EST
DTSTART:20241103T060000
END:STANDARD
END:VTIMEZONE
BEGIN:VEVENT
DTSTART;TZID=America/New_York:20231029T110000
DTEND;TZID=America/New_York:20231029T160000
DTSTAMP:20260421T073343
CREATED:20230919T173229Z
LAST-MODIFIED:20230919T174141Z
UID:118771-1698577200-1698595200@beerstreetjournal.com
SUMMARY:Wild Leap Taylor Swift "1989" Re-Release Brunch
DESCRIPTION:Wild Leap Taylor Swift “1989” Re-Release Brunch\, October 29th\nATLANTA SWIFTIES\, you never go out of Style. We’ll be in screaming color at our 1989 Release Party Brunch at Wild Leap Atlanta on 10/29. What can you expect?! \n🎶 Swiftie DJ playing ALL of 1989 TV + other Eras and taking requests \n📷 Polaroid style photo opps to remember this brunch that will be straight out of your wildest dreams. \n🍹 Themed cocktails\, mocktails and slushee flights so you and your friends can shake it off \n🍔 Food trucks on-site \n🌟 Plenty of main character moments including our costume contest\, lipsync battles and bridge challenge \n💎: Friendship bracelet trading + so much more \nSHAKE IT OFF GENERAL ADMISSION INCLUDES: \nEntrance to 1989 Album Re-Release Party including multiple bars with drink specials (including mocktails)\, photo opps\, food trucks\, costume contest and lip sync battles\n  \nWILDEST DREAMS PACKAGE INCLUDES: \nAll the benefits of the Shake It Off General Admission PLUS…\nExclusive 1989 themed koozie\nLimited edition 1989 themed friendship bracelet\n  \nBAD BLOOD VIP PACKAGE INCLUDES: \nAll the benefits of the Wildest Dreams Package PLUS…\nExclusive access to VIP Speakeasy with Private bar\nSkip the line access\nAccess to exclusive photo experience in Speakeasy\nWelcome to New York jello shot (non-alc version available too)\nExclusive DJ in the speakeasy giving you priority song requests and access to VIP costume contest + lipsync battles\n  \nLOCATION NOTES (WILD LEAP ATLANTA): \n6-8 minute walk from Mercedes-Benz Stadium\n0.6 miles away from State Farm Arena / GWCC MARTA Stop\n0.4 miles away from Garnett MARTA Station\n  \nADDITIONAL DETAILS: \nAge Requirement: All ages (Under 18 must be accompanied by an adult)\nPresale Tickets Guarantee Entry. Event will likely sell out in advance.\nWe will have several food trucks on-site for this event. Food is not included in the price of the ticket.\n  \nCOMPLIMENTARY PARKING INSTRUCTIONS: \nLimited complimentary parking available at Wild Leap. This is offered on a first come\, first served basis.\nPut “Wild Leap Atlanta” into Google Maps to get there.\nIf you see the Wild Leap / Lofts at Centennial Yards building on your right\, drive past the stop light at the Peters street bridge and make an immediate curved right under the bridge into a parking lot.\nThis parking is for both for residents of the apartment and retail visitors. Please look for the signage straight ahead outlining where the retail spots begin.\n  \nADDITIONAL PARKING OPTIONS: \nMultiple paid lots available across the street from Wild Leap on Ted Turner Drive and Mitchell Street.\nWe strongly suggest carpooling or taking Uber!
URL:https://beerstreetjournal.com/event/wild-leap-taylor-swift-1989-re-release-brunch/
LOCATION:Wild Leap Atlanta\, 125 Ted Turner Drive\, Atlanta\, GA\, 30313\, United States
CATEGORIES:Theme Party
ATTACH;FMTTYPE=image/jpeg:https://beerstreetjournal.com/wp-content/uploads/Wild-Leap-Taylor-Swift-Party.jpeg
END:VEVENT
BEGIN:VEVENT
DTSTART;TZID=America/New_York:20231001T120000
DTEND;TZID=America/New_York:20231001T180000
DTSTAMP:20260421T073343
CREATED:20230919T170553Z
LAST-MODIFIED:20230919T173955Z
UID:118761-1696161600-1696183200@beerstreetjournal.com
SUMMARY:Jonas Brothers Pre-Party at Wild Leap Atlanta
DESCRIPTION:Jonas Brothers Pre-Party at Wild Leap Atlanta\nATLANTA\, we’re a SUCKER for the Jonas Brothers! Don’t miss The Pre-Party to celebrate the Jonas Brothers coming to town on Sunday\, October 1st. Whether you’re looking to get a little crazy\, or get a little loud we’ve got just the pre-party experience you’re looking for! What can you expect?! \n🎶 DJ playing all the bops + deep cuts across from The Jonas Brothers 5 albums + some of their solo stuff and Camp Rock too! From the early days where all of us were screaming “high heels\, red dress” to now singing about Waffle House\, we’re diving into the Year 3000 and beyond. \n📷 Baby\, you’ll be burning up at our instagrammable photo experiences located throughout Wild Leap! \n🍹 Themed cocktails\, mocktails and slushie flights that will leave you saying and another one\, and another one\, and another one. \n🍔 Food trucks on-site so you can fuel up before heading over to State Farm Arena. \n🌟 Lip sync battles\, costume contest + more! \nGA TICKET OPTION INCLUDES: \nEntrance to “The Pre-Party” including multiple bars\, photo opps\, + food trucks \nVIP TICKET OPTION INCLUDES: \nAll the benefits of a GA ticket PLUS…\nExclusive access to VIP Speakeasy with Private bar\nSkip the line access\nExclusive Jonas Brothers Themed Koozie\nVIP Lanyard\n  \nLOCATION NOTES (WILD LEAP ATLANTA): \n0.6 miles away from State Farm Arena / GWCC MARTA Stop\n6-8 minute walk from Mercedes-Benz Stadium\n0.4 miles away from Garnett MARTA Station\n  \nADDITIONAL DETAILS: \nAge Requirement: All ages (Under 18 must be accompanied by an adult)\nPresale Tickets Guarantee Entry. Event will likely sell out in advance.\n  \nCOMPLIMENTARY PARKING INSTRUCTIONS: \nLimited complimentary parking available at Wild Leap. This is offered on a first come\, first served basis. Parking in this lot and walking to State Farm Arena is NOT permitted. Building ownership will tow cars.\nPut “Wild Leap Atlanta” into Google Maps to get there.\nIf you see the Wild Leap / Lofts at Centennial Yards building on your right\, drive past the stop light at the Peters street bridge and make an immediate curved right under the bridge into a parking lot.\nThis parking is for both for residents of the apartment and retail visitors. Please look for the signage straight ahead outlining where the retail spots begin.\n  \nADDITIONAL PARKING OPTIONS: \nMultiple paid lots available across the street from Wild Leap on Ted Turner Drive and Mitchell Street.\nWe strongly suggest carpooling or taking Uber!
URL:https://beerstreetjournal.com/event/jonas-brothers-pre-party-at-wild-leap-atlanta/
LOCATION:Wild Leap Atlanta\, 125 Ted Turner Drive\, Atlanta\, GA\, 30313\, United States
CATEGORIES:Theme Party
ATTACH;FMTTYPE=image/jpeg:https://beerstreetjournal.com/wp-content/uploads/Wild-Leap-Jonas-Brothers.jpeg
END:VEVENT
END:VCALENDAR